BEGIN:VCALENDAR
VERSION:2.0
PRODID:-//AudioTheme 3.0.2
BEGIN:VEVENT
UID:https://www.aniapaz.com/?post_type=audiotheme_gig&#038;p=117
URL:https://www.aniapaz.com/shows/2017-09-14/
DTSTART;TZID=GMT:20171013T003000
SUMMARY:Ania Paz Trio En Centro Cultural Inca Garcilaso
DESCRIPTION:Ania Paz - Piano\; Coco Cabanillas - Bass\; Franco Alcazar - Drums and Percussion  
LOCATION:Centro Cultural Inca Garcilaso\, Jirón Ucayali 301\, Lima\, Lima\, Lima\, Peru\, 1
END:VEVENT
END:VCALENDAR
