BEGIN:VCALENDAR
VERSION:2.0
PRODID:-//AudioTheme 3.0.2
BEGIN:VEVENT
UID:https://www.aniapaz.com/?post_type=audiotheme_gig&#038;p=771
URL:https://www.aniapaz.com/shows/2019-10-23/
DTSTART;TZID=GMT:20191023T170000
SUMMARY:Master Class at Noveno Festival Internacional JazzUV 2019
LOCATION:Teatro J.J. Herrera - Mexico\, Miguel Palacios 12\, Zona Centro\, Xalapa\, Veracruz\, Mexico\, 91000
END:VEVENT
END:VCALENDAR
