BEGIN:VCALENDAR
VERSION:2.0
PRODID:-//AudioTheme 3.0.2
BEGIN:VEVENT
UID:urn:uuid:38e8e8ce-f5d0-40ee-b162-3d69d9568861
URL:https://www.aniapaz.com/shows/ania-paz-trio-at-kunstfabrik-schlot-3/
DTSTART;TZID=GMT:20250523T190000
SUMMARY:Ania Paz Trio at Kunstfabrik Schlot
DESCRIPTION:Ania Paz - piano and composition  Carmelo Leotta - bass  Christoph Hillmann - drums
LOCATION:Kunstfabrik Schlot\, Invalidenstraße 117\, 10115 Berlin\, Berlin\, \, Germany\, - 10115
END:VEVENT
END:VCALENDAR
