BEGIN:VCALENDAR
VERSION:2.0
PRODID:-//AudioTheme 3.0.2
BEGIN:VEVENT
UID:urn:uuid:95a8bf97-d91e-48fb-a212-03c11c26490d
URL:https://www.aniapaz.com/shows/ania-paz-trio-dia-internacional-de-la-mujer-asociacion-jazz-en-lima/
DTSTART;TZID=GMT:20200312T013000
SUMMARY:Ania Paz Trio - Día Internacional de la Mujer - Asociación Jazz en Lima
DESCRIPTION:Concert and Jam Session - Hotel Westin     Ken Ychikawa - Drums  Adrián Muñoz - Bass  Ania Paz - Piano
LOCATION:Hotel Selina\, Alcanfores 465\, Miraflores\, Peru
END:VEVENT
END:VCALENDAR
