BEGIN:VCALENDAR
VERSION:2.0
PRODID:-//AudioTheme 3.0.2
BEGIN:VEVENT
UID:https://www.aniapaz.com/?post_type=audiotheme_gig&#038;p=381
URL:https://www.aniapaz.com/shows/gig-381/
DTSTART;TZID=GMT:20170325T030000
SUMMARY:Guest Artist with Salsa Band "La Malanga", Jazz Zone
LOCATION:Jazz Zone\, Av. La Paz 656\, Pasaje El Suche\, Miraflores\, Lima\, Perú
END:VEVENT
END:VCALENDAR
