BEGIN:VCALENDAR
VERSION:2.0
PRODID:-//AudioTheme 3.0.2
BEGIN:VEVENT
UID:https://www.aniapaz.com/?post_type=audiotheme_gig&#038;p=464
URL:https://www.aniapaz.com/shows/timeless-jazz-peru-ania-paz-trio-y-mulatto-2/
DTSTART;TZID=GMT:20170818T180000
SUMMARY:Timeless Jazz Perú - Ania Paz Trio y Mulatto
LOCATION:UPC Villa\, Alameda San Marcos cuadra 2\, Chorrillos\, Lima\, Peru
END:VEVENT
END:VCALENDAR
